BEGIN:VCALENDAR
VERSION:2.0
PRODID:-//International British School of Bucharest - ECPv6.15.20//NONSGML v1.0//EN
CALSCALE:GREGORIAN
METHOD:PUBLISH
X-WR-CALNAME:International British School of Bucharest
X-ORIGINAL-URL:https://ibsb.ro
X-WR-CALDESC:Events for International British School of Bucharest
REFRESH-INTERVAL;VALUE=DURATION:PT1H
X-Robots-Tag:noindex
X-PUBLISHED-TTL:PT1H
BEGIN:VTIMEZONE
TZID:Europe/Bucharest
BEGIN:DAYLIGHT
TZOFFSETFROM:+0200
TZOFFSETTO:+0300
TZNAME:EEST
DTSTART:20210328T010000
END:DAYLIGHT
BEGIN:STANDARD
TZOFFSETFROM:+0300
TZOFFSETTO:+0200
TZNAME:EET
DTSTART:20211031T010000
END:STANDARD
BEGIN:DAYLIGHT
TZOFFSETFROM:+0200
TZOFFSETTO:+0300
TZNAME:EEST
DTSTART:20220327T010000
END:DAYLIGHT
BEGIN:STANDARD
TZOFFSETFROM:+0300
TZOFFSETTO:+0200
TZNAME:EET
DTSTART:20221030T010000
END:STANDARD
BEGIN:DAYLIGHT
TZOFFSETFROM:+0200
TZOFFSETTO:+0300
TZNAME:EEST
DTSTART:20230326T010000
END:DAYLIGHT
BEGIN:STANDARD
TZOFFSETFROM:+0300
TZOFFSETTO:+0200
TZNAME:EET
DTSTART:20231029T010000
END:STANDARD
END:VTIMEZONE
BEGIN:VEVENT
DTSTART;VALUE=DATE:20220704
DTEND;VALUE=DATE:20220730
DTSTAMP:20260425T191258
CREATED:20220526T062833Z
LAST-MODIFIED:20220526T062833Z
UID:39901-1656892800-1659139199@ibsb.ro
SUMMARY:IBSB Summer School
DESCRIPTION:
URL:https://ibsb.ro/event/ibsb-summer-school/
END:VEVENT
BEGIN:VEVENT
DTSTART;VALUE=DATE:20220826
DTEND;VALUE=DATE:20220827
DTSTAMP:20260425T191258
CREATED:20220823T065814Z
LAST-MODIFIED:20220823T065814Z
UID:40072-1661472000-1661558399@ibsb.ro
SUMMARY:EYFS Parent meeting
DESCRIPTION:
URL:https://ibsb.ro/event/eyfs-parent-meeting/
END:VEVENT
BEGIN:VEVENT
DTSTART;VALUE=DATE:20220826
DTEND;VALUE=DATE:20220827
DTSTAMP:20260425T191258
CREATED:20220823T081747Z
LAST-MODIFIED:20220823T081747Z
UID:40230-1661472000-1661558399@ibsb.ro
SUMMARY:SS New Student Orientation Morning
DESCRIPTION:
URL:https://ibsb.ro/event/ss-new-student-orientation-morning/
END:VEVENT
BEGIN:VEVENT
DTSTART;VALUE=DATE:20220829
DTEND;VALUE=DATE:20220830
DTSTAMP:20260425T191258
CREATED:20220823T070503Z
LAST-MODIFIED:20220823T070503Z
UID:40074-1661731200-1661817599@ibsb.ro
SUMMARY:First Day of School
DESCRIPTION:
URL:https://ibsb.ro/event/first-day-of-school/
END:VEVENT
BEGIN:VEVENT
DTSTART;VALUE=DATE:20220831
DTEND;VALUE=DATE:20220901
DTSTAMP:20260425T191258
CREATED:20220823T081818Z
LAST-MODIFIED:20220823T081818Z
UID:40232-1661904000-1661990399@ibsb.ro
SUMMARY:CAS KS5 Open Day
DESCRIPTION:
URL:https://ibsb.ro/event/cas-ks5-open-day-2/
END:VEVENT
BEGIN:VEVENT
DTSTART;VALUE=DATE:20220902
DTEND;VALUE=DATE:20220903
DTSTAMP:20260425T191258
CREATED:20220823T081833Z
LAST-MODIFIED:20220823T081833Z
UID:40234-1662076800-1662163199@ibsb.ro
SUMMARY:Deadline for SS Prefect Applications
DESCRIPTION:
URL:https://ibsb.ro/event/deadline-for-ss-prefect-applications-2/
END:VEVENT
BEGIN:VEVENT
DTSTART;VALUE=DATE:20220905
DTEND;VALUE=DATE:20220917
DTSTAMP:20260425T191258
CREATED:20220823T070658Z
LAST-MODIFIED:20220823T070658Z
UID:40076-1662336000-1663372799@ibsb.ro
SUMMARY:CAS Back to School Collection
DESCRIPTION:
URL:https://ibsb.ro/event/cas-back-to-school-collection/
END:VEVENT
BEGIN:VEVENT
DTSTART;VALUE=DATE:20220905
DTEND;VALUE=DATE:20220910
DTSTAMP:20260425T191258
CREATED:20220823T070718Z
LAST-MODIFIED:20220823T070718Z
UID:40078-1662336000-1662767999@ibsb.ro
SUMMARY:Form Group Parent Meetings (Coffee Mornings)
DESCRIPTION:
URL:https://ibsb.ro/event/form-group-parent-meetings-coffee-mornings/
END:VEVENT
BEGIN:VEVENT
DTSTART;VALUE=DATE:20220905
DTEND;VALUE=DATE:20220909
DTSTAMP:20260425T191258
CREATED:20220823T081856Z
LAST-MODIFIED:20220823T081856Z
UID:40236-1662336000-1662681599@ibsb.ro
SUMMARY:SS Prefect Interviews
DESCRIPTION:
URL:https://ibsb.ro/event/ss-prefect-interviews-3/
END:VEVENT
BEGIN:VEVENT
DTSTART;VALUE=DATE:20220907
DTEND;VALUE=DATE:20220908
DTSTAMP:20260425T191258
CREATED:20220823T081915Z
LAST-MODIFIED:20220823T081915Z
UID:40238-1662508800-1662595199@ibsb.ro
SUMMARY:KS4 Parents Presentation
DESCRIPTION:
URL:https://ibsb.ro/event/ks4-parents-presentation-2/
END:VEVENT
BEGIN:VEVENT
DTSTART;VALUE=DATE:20220908
DTEND;VALUE=DATE:20220909
DTSTAMP:20260425T191258
CREATED:20220823T081930Z
LAST-MODIFIED:20220823T081930Z
UID:40240-1662595200-1662681599@ibsb.ro
SUMMARY:KS3 Parents Coffee Morning
DESCRIPTION:
URL:https://ibsb.ro/event/ks3-parents-coffee-morning-2/
END:VEVENT
BEGIN:VEVENT
DTSTART;VALUE=DATE:20220908
DTEND;VALUE=DATE:20220909
DTSTAMP:20260425T191258
CREATED:20220823T081946Z
LAST-MODIFIED:20220823T081946Z
UID:40242-1662595200-1662681599@ibsb.ro
SUMMARY:KS5 Parents Presentation
DESCRIPTION:
URL:https://ibsb.ro/event/ks5-parents-presentation-2/
END:VEVENT
BEGIN:VEVENT
DTSTART;VALUE=DATE:20220909
DTEND;VALUE=DATE:20220910
DTSTAMP:20260425T191258
CREATED:20220823T082009Z
LAST-MODIFIED:20220909T143705Z
UID:40244-1662681600-1662767999@ibsb.ro
SUMMARY:SS Prefects announced
DESCRIPTION:
URL:https://ibsb.ro/event/ss-prefect-house-captains-announced-2/
END:VEVENT
BEGIN:VEVENT
DTSTART;VALUE=DATE:20220912
DTEND;VALUE=DATE:20220913
DTSTAMP:20260425T191258
CREATED:20220823T070748Z
LAST-MODIFIED:20220823T070748Z
UID:40080-1662940800-1663027199@ibsb.ro
SUMMARY:EAL Groups begin
DESCRIPTION:
URL:https://ibsb.ro/event/eal-groups-begin-2/
END:VEVENT
BEGIN:VEVENT
DTSTART;VALUE=DATE:20220912
DTEND;VALUE=DATE:20220913
DTSTAMP:20260425T191258
CREATED:20220823T070813Z
LAST-MODIFIED:20220823T070813Z
UID:40082-1662940800-1663027199@ibsb.ro
SUMMARY:Year 6 Ambassador Interviews
DESCRIPTION:
URL:https://ibsb.ro/event/year-6-ambassador-interviews/
END:VEVENT
BEGIN:VEVENT
DTSTART;VALUE=DATE:20220912
DTEND;VALUE=DATE:20220916
DTSTAMP:20260425T191258
CREATED:20220823T070839Z
LAST-MODIFIED:20220907T063459Z
UID:40084-1662940800-1663286399@ibsb.ro
SUMMARY:SS Student Executive Elections
DESCRIPTION:
URL:https://ibsb.ro/event/elections-student-council-and-house-captains-2/
END:VEVENT
BEGIN:VEVENT
DTSTART;VALUE=DATE:20220912
DTEND;VALUE=DATE:20220917
DTSTAMP:20260425T191258
CREATED:20220823T082033Z
LAST-MODIFIED:20220823T082033Z
UID:40246-1662940800-1663372799@ibsb.ro
SUMMARY:SS GL CAT4 and PASS testing
DESCRIPTION:
URL:https://ibsb.ro/event/ss-gl-cat4-and-pass-testing/
END:VEVENT
BEGIN:VEVENT
DTSTART;VALUE=DATE:20220912
DTEND;VALUE=DATE:20220916
DTSTAMP:20260425T191258
CREATED:20220823T082055Z
LAST-MODIFIED:20220823T082055Z
UID:40248-1662940800-1663286399@ibsb.ro
SUMMARY:SS Student Executive Elections
DESCRIPTION:
URL:https://ibsb.ro/event/ss-student-executive-elections/
END:VEVENT
BEGIN:VEVENT
DTSTART;VALUE=DATE:20220917
DTEND;VALUE=DATE:20220918
DTSTAMP:20260425T191258
CREATED:20220823T071020Z
LAST-MODIFIED:20220823T071020Z
UID:40090-1663372800-1663459199@ibsb.ro
SUMMARY:Parent-Teacher BBQ (TBC)
DESCRIPTION:
URL:https://ibsb.ro/event/parent-teacher-bbq-tbc-3/
END:VEVENT
BEGIN:VEVENT
DTSTART;VALUE=DATE:20220917
DTEND;VALUE=DATE:20220918
DTSTAMP:20260425T191258
CREATED:20220823T082112Z
LAST-MODIFIED:20220823T082112Z
UID:40250-1663372800-1663459199@ibsb.ro
SUMMARY:SS Student Executive announced
DESCRIPTION:
URL:https://ibsb.ro/event/ss-student-executive-announced/
END:VEVENT
BEGIN:VEVENT
DTSTART;VALUE=DATE:20220919
DTEND;VALUE=DATE:20220924
DTSTAMP:20260425T191258
CREATED:20220823T070921Z
LAST-MODIFIED:20220823T070921Z
UID:40086-1663545600-1663977599@ibsb.ro
SUMMARY:GL Baseline Testing (Y4&6)
DESCRIPTION:
URL:https://ibsb.ro/event/gl-baseline-testing-y46/
END:VEVENT
BEGIN:VEVENT
DTSTART;VALUE=DATE:20220922
DTEND;VALUE=DATE:20220923
DTSTAMP:20260425T191258
CREATED:20220823T070952Z
LAST-MODIFIED:20220823T070952Z
UID:40088-1663804800-1663891199@ibsb.ro
SUMMARY:PTF Meeting
DESCRIPTION:
URL:https://ibsb.ro/event/ptf-meeting-11/
END:VEVENT
BEGIN:VEVENT
DTSTART;VALUE=DATE:20220926
DTEND;VALUE=DATE:20220927
DTSTAMP:20260425T191258
CREATED:20220823T071050Z
LAST-MODIFIED:20220823T071050Z
UID:40092-1664150400-1664236799@ibsb.ro
SUMMARY:Pupil Parliament announced
DESCRIPTION:
URL:https://ibsb.ro/event/pupil-parliament-announced-2/
END:VEVENT
BEGIN:VEVENT
DTSTART;VALUE=DATE:20220927
DTEND;VALUE=DATE:20220930
DTSTAMP:20260425T191258
CREATED:20220823T071113Z
LAST-MODIFIED:20220823T071113Z
UID:40094-1664236800-1664495999@ibsb.ro
SUMMARY:BSO Inspection
DESCRIPTION:
URL:https://ibsb.ro/event/bso-inspection/
END:VEVENT
BEGIN:VEVENT
DTSTART;VALUE=DATE:20221003
DTEND;VALUE=DATE:20221004
DTSTAMP:20260425T191258
CREATED:20220823T071144Z
LAST-MODIFIED:20220823T071144Z
UID:40096-1664755200-1664841599@ibsb.ro
SUMMARY:German Unification Day (nonuniform for German MFL pupils)
DESCRIPTION:
URL:https://ibsb.ro/event/german-unification-day-nonuniform-for-german-mfl-pupils/
END:VEVENT
BEGIN:VEVENT
DTSTART;VALUE=DATE:20221003
DTEND;VALUE=DATE:20221008
DTSTAMP:20260425T191258
CREATED:20220823T071208Z
LAST-MODIFIED:20220823T071208Z
UID:40098-1664755200-1665187199@ibsb.ro
SUMMARY:Nude Food Week
DESCRIPTION:
URL:https://ibsb.ro/event/nude-food-week-10/
END:VEVENT
BEGIN:VEVENT
DTSTART;VALUE=DATE:20221003
DTEND;VALUE=DATE:20221004
DTSTAMP:20260425T191258
CREATED:20220823T071235Z
LAST-MODIFIED:20220823T071235Z
UID:40100-1664755200-1664841599@ibsb.ro
SUMMARY:New Parent meetings begin (with Head of PS)
DESCRIPTION:
URL:https://ibsb.ro/event/new-parent-meetings-begin-with-head-of-ps/
END:VEVENT
BEGIN:VEVENT
DTSTART;VALUE=DATE:20221005
DTEND;VALUE=DATE:20221006
DTSTAMP:20260425T191258
CREATED:20220823T082155Z
LAST-MODIFIED:20220823T082155Z
UID:40252-1664928000-1665014399@ibsb.ro
SUMMARY:Y10 Parent Meetin
DESCRIPTION:
URL:https://ibsb.ro/event/y10-parent-meetin/
END:VEVENT
BEGIN:VEVENT
DTSTART;VALUE=DATE:20221007
DTEND;VALUE=DATE:20221008
DTSTAMP:20260425T191258
CREATED:20220823T071323Z
LAST-MODIFIED:20220823T071323Z
UID:40102-1665100800-1665187199@ibsb.ro
SUMMARY:Sports Day
DESCRIPTION:
URL:https://ibsb.ro/event/sports-day-2/
END:VEVENT
BEGIN:VEVENT
DTSTART;VALUE=DATE:20221007
DTEND;VALUE=DATE:20221011
DTSTAMP:20260425T191258
CREATED:20220823T082217Z
LAST-MODIFIED:20220823T082217Z
UID:40254-1665100800-1665446399@ibsb.ro
SUMMARY:DofE Forum – Gold Award
DESCRIPTION:
URL:https://ibsb.ro/event/dofe-forum-gold-award/
END:VEVENT
END:VCALENDAR